BEGIN:VCALENDAR
VERSION:2.0
PRODID:-//GBCC Extranet - ECPv6.15.17//NONSGML v1.0//EN
CALSCALE:GREGORIAN
METHOD:PUBLISH
X-ORIGINAL-URL:https://mygbcc.greatbay.edu
X-WR-CALDESC:Events for GBCC Extranet
REFRESH-INTERVAL;VALUE=DURATION:PT1H
X-Robots-Tag:noindex
X-PUBLISHED-TTL:PT1H
BEGIN:VTIMEZONE
TZID:America/New_York
BEGIN:DAYLIGHT
TZOFFSETFROM:-0500
TZOFFSETTO:-0400
TZNAME:EDT
DTSTART:20230312T070000
END:DAYLIGHT
BEGIN:STANDARD
TZOFFSETFROM:-0400
TZOFFSETTO:-0500
TZNAME:EST
DTSTART:20231105T060000
END:STANDARD
BEGIN:DAYLIGHT
TZOFFSETFROM:-0500
TZOFFSETTO:-0400
TZNAME:EDT
DTSTART:20240310T070000
END:DAYLIGHT
BEGIN:STANDARD
TZOFFSETFROM:-0400
TZOFFSETTO:-0500
TZNAME:EST
DTSTART:20241103T060000
END:STANDARD
BEGIN:DAYLIGHT
TZOFFSETFROM:-0500
TZOFFSETTO:-0400
TZNAME:EDT
DTSTART:20250309T070000
END:DAYLIGHT
BEGIN:STANDARD
TZOFFSETFROM:-0400
TZOFFSETTO:-0500
TZNAME:EST
DTSTART:20251102T060000
END:STANDARD
END:VTIMEZONE
BEGIN:VEVENT
DTSTART;TZID=America/New_York:20240208T160000
DTEND;TZID=America/New_York:20240208T190000
DTSTAMP:20260422T043535
CREATED:20240201T141603Z
LAST-MODIFIED:20240212T143627Z
UID:10000488-1707408000-1707418800@mygbcc.greatbay.edu
SUMMARY:Art Gallery – Opening Reception
DESCRIPTION:The Gateway Gallery at Great Bay Community College is honored to present the work of Anita Loomis.The opening reception is scheduled for Thursday\, February 8th\, from 4 to 7 pm. \nThe exhibit is open to the public from Jan. 29 through Mar. 28th. M-Thursdays 7am-9pm and Friday 7-4pm.
URL:https://mygbcc.greatbay.edu/event/art-gallery-opening-reception/
LOCATION:GBCC Portsmouth Campus\, 320 Corporate Drive\, Portsmouth\, NH\, 03801\, United States
CATEGORIES:General
ATTACH;FMTTYPE=image/jpeg:https://mygbcc.greatbay.edu/wp-content/uploads/2024/02/Justice_Loomis_31x42_2021-scaled-f7QGC3.tmp_.jpg
GEO:43.0721491;-70.798802
X-APPLE-STRUCTURED-LOCATION;VALUE=URI;X-ADDRESS=GBCC Portsmouth Campus 320 Corporate Drive Portsmouth NH 03801 United States;X-APPLE-RADIUS=500;X-TITLE=320 Corporate Drive:geo:-70.798802,43.0721491
END:VEVENT
END:VCALENDAR